BEGIN:VCALENDAR
VERSION:2.0
PRODID:-//wp-events-plugin.com//7.2.3.1//EN
TZID:Europe/Berlin
X-WR-TIMEZONE:Europe/Berlin
BEGIN:VEVENT
UID:237@shanty-chor-windrose.de
DTSTART;TZID=Europe/Berlin:20240824T173000
DTEND;TZID=Europe/Berlin:20240824T201500
DTSTAMP:20240730T125634Z
URL:https://shanty-chor-windrose.de/events/auftritt-privatfeier/
SUMMARY:Auftritt Privatfeier
DESCRIPTION:
LOCATION:Auftritt Privatfeier\, Palmaille\, Hamburg\, 20459\, Deutschland
X-APPLE-STRUCTURED-LOCATION;VALUE=URI;X-ADDRESS=Palmaille\, Hamburg\, 20459
 \, Deutschland;X-APPLE-RADIUS=100;X-TITLE=Auftritt Privatfeier:geo:0,0
END:VEVENT
BEGIN:VTIMEZONE
TZID:Europe/Berlin
X-LIC-LOCATION:Europe/Berlin
BEGIN:DAYLIGHT
DTSTART:20240331T030000
TZOFFSETFROM:+0100
TZOFFSETTO:+0200
TZNAME:CEST
END:DAYLIGHT
END:VTIMEZONE
END:VCALENDAR